BEGIN:VCALENDAR
VERSION:2.0
PRODID:-//Jennifer B. Wind - ECPv5.16.4//NONSGML v1.0//EN
CALSCALE:GREGORIAN
METHOD:PUBLISH
X-WR-CALNAME:Jennifer B. Wind
X-ORIGINAL-URL:https://www.jennifer-b-wind.com/wordpress-2019
X-WR-CALDESC:Veranstaltungen für Jennifer B. Wind
BEGIN:VTIMEZONE
TZID:Europe/Berlin
BEGIN:DAYLIGHT
TZOFFSETFROM:+0100
TZOFFSETTO:+0200
TZNAME:CEST
DTSTART:20200329T010000
END:DAYLIGHT
BEGIN:STANDARD
TZOFFSETFROM:+0200
TZOFFSETTO:+0100
TZNAME:CET
DTSTART:20201025T010000
END:STANDARD
END:VTIMEZONE
BEGIN:VEVENT
DTSTART;TZID=Europe/Berlin:20200905T200000
DTEND;TZID=Europe/Berlin:20200905T210000
DTSTAMP:20260425T124204
CREATED:20200420T181327Z
LAST-MODIFIED:20200827T224750Z
UID:2836-1599336000-1599339600@www.jennifer-b-wind.com
SUMMARY:Szenische interaktive LIVE Hörspiellesung auf 4 Kanälen!!
DESCRIPTION:Meine Lieben \nMit Freude darf ich euch zu meiner nächsten interaktiven\, szenischen Live Hörspiellesung einladen\, für die ihr ganz gemütlich zu Hause bleiben könnt . \n.\nDieses Mal wird die Lesung nicht nur im Second Life vor einem tollen Bühnenbild stattfinden\, sondern auch über einen Radiosender übertragen werden\, sowie live auf YouTube und Discord.\nALSO VIER TOLLE MÖGLICHKEITEN DABEI ZU SEIN.\nPop-Corn und Getränke vorbereiten\, das favorisierte Programm einschalten und genießen (Kleine Anmerkung: Mit Bühnenbild gibt es die Lesung natürlich nur direkt im Second Life! )\n.\nStimmlich unterstützt werde ich wieder von meiner großartigen Kollegin @petrak.gungl und dem wunderbaren Gastgeber Thorsten Küper. Lasst euch in eine Welt voller Magie entführen.\nAußerdem gibt es auch ein Buch zu gewinnen\, wahlweise als Ebook oder Taschenbuch.\n.\nIch freu mich riesig auf euch und einen schönen Abend.\n\n\nInfo vom Veranstalter: Samstag\, 5. September: Jennifer B. Wind liest live in SL\nBeim BB E-Book Event musste Jennifer leider absagen. Jetzt holen wir ihre Lesung nach. Am Samstag\, den 5. September liest Jennifer B. Wind im Brennenden Theater aus „Die Maske der Schuld“\nDas Bühnenbild stammt von Miara Lubitsch.\nSLURL: https://maps.secondlife.com/secondlife/Port Genieva/176/222/22\nNatürlich auch live bei www.radio-rote-dora.org\nAndere links zu youtube und Discord folgen.\nNatürlich könnt ihr via Youtube die Lesung auch später nachhören. \n  \n  \n 
URL:https://www.jennifer-b-wind.com/wordpress-2019/event/jennifer-b-wind-liest-beim-bb-e-book-event-im-second-life/
LOCATION:Second Life\, Yucale Coffee Gallery
CATEGORIES:Book Introduction,Ersatztermin Covid19,Gewinnspiel,Interaktive LIVE Lesung,Interview,Lesung,Second Life,Szenische LIVE Lesung,Talkrunde
ATTACH;FMTTYPE=image/png:https://www.jennifer-b-wind.com/wordpress-2019/wp-content/uploads/2020/04/second-life-2020-bühne-2.png
END:VEVENT
END:VCALENDAR