BEGIN:VCALENDAR
VERSION:2.0
PRODID:-//Jennifer B. Wind - ECPv5.16.4//NONSGML v1.0//EN
CALSCALE:GREGORIAN
METHOD:PUBLISH
X-WR-CALNAME:Jennifer B. Wind
X-ORIGINAL-URL:https://www.jennifer-b-wind.com/wordpress-2019
X-WR-CALDESC:Veranstaltungen für Jennifer B. Wind
BEGIN:VTIMEZONE
TZID:Europe/Berlin
BEGIN:DAYLIGHT
TZOFFSETFROM:+0100
TZOFFSETTO:+0200
TZNAME:CEST
DTSTART:20190331T010000
END:DAYLIGHT
BEGIN:STANDARD
TZOFFSETFROM:+0200
TZOFFSETTO:+0100
TZNAME:CET
DTSTART:20191027T010000
END:STANDARD
END:VTIMEZONE
BEGIN:VEVENT
DTSTART;TZID=Europe/Berlin:20191205T190000
DTEND;TZID=Europe/Berlin:20191205T210000
DTSTAMP:20260424T103834
CREATED:20190612T210007Z
LAST-MODIFIED:20200201T154736Z
UID:1899-1575572400-1575579600@www.jennifer-b-wind.com
SUMMARY:Krampus Benefiz Lesung der Mörderischen Schwestern Österreich
DESCRIPTION:Krampus Ladies Crime Night Benefizlesung\n\nSieben mörderische Schwestern lesen für den guten Zweck zugunsten von „Jugend eine Welt“ im \n„Buchcafe-Melange.“ \nEs lesen neben Jennifer B. Wind aus ihren Werken: \n  \nGaby Grausgruber \nSylvia Grünberger \nGudrun Lerchbaum \nNicole Makarewicz \nSabine Marx \nChristine Neumeyer
URL:https://www.jennifer-b-wind.com/wordpress-2019/event/krampus-benefiz-lesung/
LOCATION:Buchcafe Melange\, Reindorfgasse 42\, Wien\, Wien\, 1150\, Österreich
CATEGORIES:Book Introduction,Lesung,Signierstunde
ATTACH;FMTTYPE=image/jpeg:https://www.jennifer-b-wind.com/wordpress-2019/wp-content/uploads/2019/06/ladies-crime-night.jpg
END:VEVENT
END:VCALENDAR