BEGIN:VCALENDAR
VERSION:2.0
PRODID:-//Jennifer B. Wind - ECPv5.16.4//NONSGML v1.0//EN
CALSCALE:GREGORIAN
METHOD:PUBLISH
X-WR-CALNAME:Jennifer B. Wind
X-ORIGINAL-URL:https://www.jennifer-b-wind.com/wordpress-2019
X-WR-CALDESC:Veranstaltungen für Jennifer B. Wind
BEGIN:VTIMEZONE
TZID:Europe/Berlin
BEGIN:DAYLIGHT
TZOFFSETFROM:+0100
TZOFFSETTO:+0200
TZNAME:CEST
DTSTART:20230326T010000
END:DAYLIGHT
BEGIN:STANDARD
TZOFFSETFROM:+0200
TZOFFSETTO:+0100
TZNAME:CET
DTSTART:20231029T010000
END:STANDARD
END:VTIMEZONE
BEGIN:VEVENT
DTSTART;VALUE=DATE:20230925
DTEND;VALUE=DATE:20231001
DTSTAMP:20260422T110149
CREATED:20230727T203138Z
LAST-MODIFIED:20230727T203138Z
UID:3684-1695600000-1696118399@www.jennifer-b-wind.com
SUMMARY:Themenwoche bei Carmen zum Thema "Heimat"
DESCRIPTION:Mit „Wasserfallsturz“ bin ich bei Carmen\, die in ihrem Blog im Monat September das Thema „Heimat“ hat. \nEs erwarten dich Schnipsel\, Infos und vieles mehr\, Selbstverständlich gibt es auch ein Gewinnspiel mit einer Steiermark Goodiebox plus Buch! \n  \nWeitere Infos folgen! \nSei dabei!
URL:https://www.jennifer-b-wind.com/wordpress-2019/event/themenwoche-bei-carmen-zum-thema-heimat/
CATEGORIES:Book Introduction
ATTACH;FMTTYPE=image/jpeg:https://www.jennifer-b-wind.com/wordpress-2019/wp-content/uploads/2023/07/Wenn-die-Suenden-deiner-Vaeter-dich-einholen....1-scaled.jpg
END:VEVENT
END:VCALENDAR