BEGIN:VCALENDAR
VERSION:2.0
PRODID:-//Jennifer B. Wind - ECPv5.16.4//NONSGML v1.0//EN
CALSCALE:GREGORIAN
METHOD:PUBLISH
X-WR-CALNAME:Jennifer B. Wind
X-ORIGINAL-URL:https://www.jennifer-b-wind.com/wordpress-2019
X-WR-CALDESC:Veranstaltungen für Jennifer B. Wind
BEGIN:VTIMEZONE
TZID:Europe/Berlin
BEGIN:DAYLIGHT
TZOFFSETFROM:+0100
TZOFFSETTO:+0200
TZNAME:CEST
DTSTART:20200329T010000
END:DAYLIGHT
BEGIN:STANDARD
TZOFFSETFROM:+0200
TZOFFSETTO:+0100
TZNAME:CET
DTSTART:20201025T010000
END:STANDARD
END:VTIMEZONE
BEGIN:VEVENT
DTSTART;VALUE=DATE:20200115
DTEND;VALUE=DATE:20200123
DTSTAMP:20260424T135207
CREATED:20200109T164102Z
LAST-MODIFIED:20200201T154652Z
UID:2741-1579046400-1579737599@www.jennifer-b-wind.com
SUMMARY:Umsetzungskongress für Autor/innen
DESCRIPTION:Der Umsetzungskongress für Autoren ist der Online Kongress\, der dich mit großartigen Tipps\, Tools und Tricks der besten Experten direkt in die Umsetzung deines Buchtraums katapultiert.\n\nMöchtest du 2020 endlich dein Buch (zu Ende) schreiben?\nOder ist es bereits fertig und du suchst jetzt einen Verlag oder eine Agentur?\nBrauchst du Tipps für das perfekte Buchmarketing?\nErscheint dein Buch 2020 und du würdest gerne einen Trailer machen\, weißt aber nicht wie?\nDu hast bereits veröffentlicht und nun stehen erste Lesungen an und du hast Lampenfieber?Dann ist der Umsetzungskongress für Autor/innen genau das Richtige für dich.\n30 Expert/innen unterstützen dich auf deinem Weg zum Buch und darüber hinaus:\nVom Marketingprofi\, über Bühnenprofis bis zu Coaches in verschiedenen Bereichen rund ums Schreiben\, von der Verlagsfindung bis hin zum Selfpublishing.\nDabei gehen wir auf die Themen Schreiben\, Veröffentlichen\, Vermarkten von Büchern und das Thema Mindset ein\, wobei du von jedem Experten Tipps an die Hand bekommst\, die du direkt für dein Buch umsetzen kannst. \n\nMit dabei sind über 30 Experten\, die in der Woche vom 15. bis 22. Januar ihre Erfolgsrezepte preisgeben.\n \nAn Bord sind: \n\nBestseller Autorinnen und super erfolgreiche SchrifstellerInnen wie u.a. Hannah Siebern\, Elvira Zeissler\, Jennifer B. Wind\, Melanie Weber-Tilse\, Sandy Mercier\, Vera Nentwich\, Franz Grieser\, Sabrina Heilmann\, Tanja Wagner und Sina Müller\nFachfrauen und -männer wie Annika Bühnemann von „Vom Schreiben leben“\, Julia K Stein von xojulia.de\, Laura Kühbauch von Tolino Media\, Steffi Bieber-Geske von der BuchBERLIN\, Lektorin Eva Maria Nielsen\, Hörbuch Produzentin Marta Rechul\, Buchcoach Janet Zentel\, Cover Design Casandra Krammer und Sonic Blue/ Marcus Meurer – der Experte für ortsunabhängiges Arbeiten und Umsetzungsstrategien\nMarketing Spezialisten mit Buchvermarktung Helen Schmidt\, Buchtrailer Spezialist Milan Grünewald\, Positionierungsprofi Bianca Katzer\, Buchbloggerin Monika Schulze\, Brand Builder Chris Schröder und Online Marketing Pro Fabian Zentel\nMindset Expertin Julia Lakaemper\, Transformations Coach Mei Wengel\, Life Meditation Coach Sultan Deniz und Experte für Erfolgsstrategien Lasse Arabestani\n\nDas Beste daran: du kannst dich jetzt noch völlig kostenfrei registrieren und hast dann während des Kongresses 24 Stunden lang Zugriff auf die freigeschalteten Videos. Falls du so lange nicht warten möchtest und mit unbegrenztem Zugriff das Maximum aus dem Kongress herausholen willst\, kann ich dir die Kongress Pakete sehr empfehlen. Diese kannst du nach deiner Registrierung derzeit noch zu einem unschlagbaren Vorteilspreis erwerben und dir alle Experten Videos anschauen wann\, wo und wie oft du möchtest.\n \nHier bekommst du alle Informationen zum Kongress und den Paketen und kannst dich kostenlos einfach anmelden\, (ganz nach unten scrollen) wenn du dich noch nicht für ein Paket entscheiden möchtest:\nSicher dir jetzt kostenlos deinen Platz und starte 2020 so richtig durch!\n8 Tage und 30 Expert/innen\, ein Buch mit praktischen Umsetzungstipps und vieles mehr erwarten dich!\nNeugierig geworden?\nDann geht es hier zum Umsetzungskongress: \n \nWir freuen uns auf DICH!\n 
URL:https://www.jennifer-b-wind.com/wordpress-2019/event/umsetzungskongress-fuer-autor-innen/
LOCATION:online
CATEGORIES:Coaching,Interview,Onlinecoaching
ATTACH;FMTTYPE=image/jpeg:https://www.jennifer-b-wind.com/wordpress-2019/wp-content/uploads/2020/01/UKA-FacebookEventCover-828x315px.jpg
END:VEVENT
END:VCALENDAR