BEGIN:VCALENDAR
VERSION:2.0
PRODID:-//Jennifer B. Wind - ECPv5.16.4//NONSGML v1.0//EN
CALSCALE:GREGORIAN
METHOD:PUBLISH
X-WR-CALNAME:Jennifer B. Wind
X-ORIGINAL-URL:https://www.jennifer-b-wind.com/wordpress-2019
X-WR-CALDESC:Veranstaltungen für Jennifer B. Wind
BEGIN:VTIMEZONE
TZID:Europe/Berlin
BEGIN:DAYLIGHT
TZOFFSETFROM:+0100
TZOFFSETTO:+0200
TZNAME:CEST
DTSTART:20230326T010000
END:DAYLIGHT
BEGIN:STANDARD
TZOFFSETFROM:+0200
TZOFFSETTO:+0100
TZNAME:CET
DTSTART:20231029T010000
END:STANDARD
END:VTIMEZONE
BEGIN:VEVENT
DTSTART;TZID=Europe/Berlin:20230909T153000
DTEND;TZID=Europe/Berlin:20230909T180000
DTSTAMP:20260424T122245
CREATED:20230727T203625Z
LAST-MODIFIED:20230901T134640Z
UID:3686-1694273400-1694282400@www.jennifer-b-wind.com
SUMMARY:"Wasserfallsturz" Signierstunde beim 2. Stöhr´s Geburtstag
DESCRIPTION:Die Buchhandlung „Stöhr´s Lesefutter“ feiert ihren zweiten Geburtstag\, \nAn diesem Tag habt ihr die Gelegenheit mit zahlreichen Autor*innen in Kontakt zu treten und euch deren Bücher signieren zu lassen. Außerdem gibt es Speis und Trank und es kommen viele tolle österreichische Autor*innen. \nMeine Signierstunde ist um 15:30! Ihr könnt gern schon davor und danach eurer signiertes Buch mit Widmung abholen. Du kannst das Buch auch vorbestellen. Schreib mir oder der Buchhandlung einfach eine Mail mit der Anzahl der Bücher\, die du bestellen möchtest und die Widmungen\, die ich hinein schreiben soll. So ist gesichert\, dass du nicht leer ausgehst. Jeder\, der persönlich zum Geburtstagsfest vorbei kommt und sich ein signiertes Exemplar von „Wasserfallsturz“ sichert\, erhält von mir auch noch ein ganz spezielles Goodie\, das es nicht zu kaufen gibt. \n \nGern kannst du auch meine anderen Bücher signieren lassen. (Auch hier rate ich zur Vorbestellung\, damit auch alles lagernd ist\, was du haben möchtest) \nLass dir diesen besonderen Tag nicht entgehen und schau vorbei. \nDas ganze Programm findest du auf der Webseite von Stöhr´s Lesefutter. Klick einfach auf das Bild oder hier auf den LINK 🙂 \nDer Eintritt ist frei und du musst dich auch nicht anmelden! \n\n\nOtto-Glöckel-Straße 2-4\n2514 Traiskirchen\nÖsterreich \nbuch@stoehrs-lesefutter.at \n+43 2252 57 097 \n\n\n\nFOLGE UNS
URL:https://www.jennifer-b-wind.com/wordpress-2019/event/wasserfallssturz-signierstunde-beim-2-stoehrs-geburtstag/
LOCATION:Stöhr´s Lesefutter\, Otto Glöckel-Straße 2-4\, 2514 Traiskirchen\, Traiskirchen\, Niederösterreich\, 2514\, Österreich
CATEGORIES:Signierstunde
ATTACH;FMTTYPE=image/jpeg:https://www.jennifer-b-wind.com/wordpress-2019/wp-content/uploads/2023/07/Wenn-die-Suenden-deiner-Vaeter-dich-einholen....1-scaled.jpg
END:VEVENT
END:VCALENDAR