BEGIN:VCALENDAR
VERSION:2.0
PRODID:-//Jennifer B. Wind - ECPv5.16.4//NONSGML v1.0//EN
CALSCALE:GREGORIAN
METHOD:PUBLISH
X-WR-CALNAME:Jennifer B. Wind
X-ORIGINAL-URL:https://www.jennifer-b-wind.com/wordpress-2019
X-WR-CALDESC:Veranstaltungen für Jennifer B. Wind
BEGIN:VTIMEZONE
TZID:Europe/Berlin
BEGIN:DAYLIGHT
TZOFFSETFROM:+0100
TZOFFSETTO:+0200
TZNAME:CEST
DTSTART:20230326T010000
END:DAYLIGHT
BEGIN:STANDARD
TZOFFSETFROM:+0200
TZOFFSETTO:+0100
TZNAME:CET
DTSTART:20231029T010000
END:STANDARD
END:VTIMEZONE
BEGIN:VEVENT
DTSTART;TZID=Europe/Berlin:20231005T190000
DTEND;TZID=Europe/Berlin:20231005T200000
DTSTAMP:20260422T110307
CREATED:20230901T132305Z
LAST-MODIFIED:20230901T132306Z
UID:3738-1696532400-1696536000@www.jennifer-b-wind.com
SUMMARY:"Wasserfallsturz" Niederösterreich Premiere
DESCRIPTION:Die Niederösterreich Premiere von „Wasserfallsturz“ findet in Leobersdorf in der Passage statt. \nDie Autorin hat natürlich wieder ihr kabarettistisches Rahmenprogramm mit im Gepäck und die Zuhörer*innen können auch etwas gewinnen. Im Gemütlichen Ambiente der Passage vor der AIDA Konditorei können die Zuschauer gemütlich bei Getränken und Mehlspeisen der Lesung lauschen. \nIm Anschluss können die Bücher erworben werden\, die Autorin signiert sie gerne und plaudert mit Ihnen. \nDie Veranstaltung wird organisiert von der Buchhandlung HIKADE. \nBitte dort reservieren unter: hikade@diepassage.at \noder telefonisch: 02256 65824 \nEintritt 5 Euro (gilt gleichzeitig als Gutschein\, der beim Kauf eines Buchs eingelöst werden kann.) \nWo: \nPassage Leobersdorf \nHauptstraße 9 bis 13 \n2544 Leobersdorf \nEs gibt ausreichend PARKMÖGLICHKEITEN im Freien und zusätzlich eine PARKGARAGE. Die Veranstaltungslocation ist BARRIEREFREI!
URL:https://www.jennifer-b-wind.com/wordpress-2019/event/wasserfallsturz-niederoesterreich-premiere/
LOCATION:passage Leobersdorf\, Hauptstraße 9-13\, Leobersdorf\, Niederösterreich\, 2544\, Österreich
CATEGORIES:Book Introduction,Lesung,Signierstunde,Szenische LIVE Lesung
ATTACH;FMTTYPE=image/jpeg:https://www.jennifer-b-wind.com/wordpress-2019/wp-content/uploads/2023/07/Wenn-die-Suenden-deiner-Vaeter-dich-einholen....1-scaled.jpg
END:VEVENT
END:VCALENDAR